BEGIN:VCALENDAR
VERSION:2.0
PRODID:-//Baustelle Gemeinwohl - ECPv6.15.20//NONSGML v1.0//EN
CALSCALE:GREGORIAN
METHOD:PUBLISH
X-WR-CALNAME:Baustelle Gemeinwohl
X-ORIGINAL-URL:https://www.baustelle-gemeinwohl.de
X-WR-CALDESC:Veranstaltungen für Baustelle Gemeinwohl
REFRESH-INTERVAL;VALUE=DURATION:PT1H
X-Robots-Tag:noindex
X-PUBLISHED-TTL:PT1H
BEGIN:VTIMEZONE
TZID:Europe/Berlin
BEGIN:DAYLIGHT
TZOFFSETFROM:+0100
TZOFFSETTO:+0200
TZNAME:CEST
DTSTART:20230326T010000
END:DAYLIGHT
BEGIN:STANDARD
TZOFFSETFROM:+0200
TZOFFSETTO:+0100
TZNAME:CET
DTSTART:20231029T010000
END:STANDARD
BEGIN:DAYLIGHT
TZOFFSETFROM:+0100
TZOFFSETTO:+0200
TZNAME:CEST
DTSTART:20240331T010000
END:DAYLIGHT
BEGIN:STANDARD
TZOFFSETFROM:+0200
TZOFFSETTO:+0100
TZNAME:CET
DTSTART:20241027T010000
END:STANDARD
BEGIN:DAYLIGHT
TZOFFSETFROM:+0100
TZOFFSETTO:+0200
TZNAME:CEST
DTSTART:20250330T010000
END:DAYLIGHT
BEGIN:STANDARD
TZOFFSETFROM:+0200
TZOFFSETTO:+0100
TZNAME:CET
DTSTART:20251026T010000
END:STANDARD
END:VTIMEZONE
BEGIN:VEVENT
DTSTART;TZID=Europe/Berlin:20240411T170000
DTEND;TZID=Europe/Berlin:20240411T210000
DTSTAMP:20260424T130100
CREATED:20240313T103808Z
LAST-MODIFIED:20240906T160543Z
UID:44571-1712854800-1712869200@www.baustelle-gemeinwohl.de
SUMMARY:Block 616 – Stadtwerkstatt III
DESCRIPTION:In den letzten Monaten haben vier Büros an Entwürfen zur Bebauung des AOK-Parkplatzes gearbeitet. Jetzt werden die abschließenden Entwürfe öffentlich gezeigt\, um die Meinung der Bewohner*innen aus dem Gebiet zu hören.  \n\n\n\n\n\n\n\nEs ist die öffentliche Abschlusspräsentation des „2-stufigen städtebaulichen Werkstattverfahrens“ zur Entwicklung von Block 616. Während der ersten Stufe hat jedes Büro drei unterschiedliche Ansätze eingebracht\, so dass 12 Entwürfe gezeigt wurden. Nach der Kritik der Anwohner*innen in der Stadtwerkstatt II und der anschließenden Planungswerkstatt von Expert*innen\, wurde für jedes Büro eine Empfehlung dazu ausgesprochen\, welchen Entwurf sie weiter ausarbeiten sollen. Jetzt auf der Stadtwerkstatt 3 werden wir also über insgesamt vier unterschiedliche städtebauliche Szenarien sprechen. \n\n\n\nKommen Sie und arbeiten Sie mit im Werkstattverfahren zur Entwicklung ihrer Nachbarschaft. \n\n\n\nWir bitten um Anmeldung auf dieser Webseite.
URL:https://www.baustelle-gemeinwohl.de/veranstaltung/block-616-stadtwerkstatt-3/
LOCATION:Kantine im EG des AOK Nordost Hauptgebäude\, Friedrich-Stampfer-Straße 1\, Berlin\, 10969
CATEGORIES:Websites > Stadtwerkstatt
ATTACH;FMTTYPE=image/png:https://www.baustelle-gemeinwohl.de/wp-content/uploads/2024/03/block616-swiii-visual-screenshot.png
END:VEVENT
END:VCALENDAR