BEGIN:VCALENDAR
VERSION:2.0
PRODID:-//Baustelle Gemeinwohl - ECPv6.15.20//NONSGML v1.0//EN
CALSCALE:GREGORIAN
METHOD:PUBLISH
X-WR-CALNAME:Baustelle Gemeinwohl
X-ORIGINAL-URL:https://www.baustelle-gemeinwohl.de
X-WR-CALDESC:Veranstaltungen für Baustelle Gemeinwohl
REFRESH-INTERVAL;VALUE=DURATION:PT1H
X-Robots-Tag:noindex
X-PUBLISHED-TTL:PT1H
BEGIN:VTIMEZONE
TZID:Europe/Berlin
BEGIN:DAYLIGHT
TZOFFSETFROM:+0100
TZOFFSETTO:+0200
TZNAME:CEST
DTSTART:20250330T010000
END:DAYLIGHT
BEGIN:STANDARD
TZOFFSETFROM:+0200
TZOFFSETTO:+0100
TZNAME:CET
DTSTART:20251026T010000
END:STANDARD
BEGIN:DAYLIGHT
TZOFFSETFROM:+0100
TZOFFSETTO:+0200
TZNAME:CEST
DTSTART:20260329T010000
END:DAYLIGHT
BEGIN:STANDARD
TZOFFSETFROM:+0200
TZOFFSETTO:+0100
TZNAME:CET
DTSTART:20261025T010000
END:STANDARD
BEGIN:DAYLIGHT
TZOFFSETFROM:+0100
TZOFFSETTO:+0200
TZNAME:CEST
DTSTART:20270328T010000
END:DAYLIGHT
BEGIN:STANDARD
TZOFFSETFROM:+0200
TZOFFSETTO:+0100
TZNAME:CET
DTSTART:20271031T010000
END:STANDARD
END:VTIMEZONE
BEGIN:VEVENT
DTSTART;TZID=Europe/Berlin:20260427T180000
DTEND;TZID=Europe/Berlin:20260427T210000
DTSTAMP:20260424T101546
CREATED:20260417T130936Z
LAST-MODIFIED:20260422T110159Z
UID:50757-1777312800-1777323600@www.baustelle-gemeinwohl.de
SUMMARY:BEHALA-Areal: Bürgerveranstaltung/Zwischenwerkstatt zum städtebaulichen Werkstattverfahren um den Viktoriaspeicher
DESCRIPTION:Zwischenwerkstatt: Erste Entwürfe für das BEHALA-Areal\n\n\n\nIm städtebaulichen Werkstattverfahren zum BEHALA-Areal am Viktoriaspeicher werden erstmals die Entwurfsideen der beteiligten Teams öffentlich vorgestellt. Die Veranstaltung gibt Einblick in Aufgabe\, Verfahren und erste konzeptionelle Ansätze für die Entwicklung des rund 4 ha großen Areals an der Spree. \n\n\n\n\n\n\n\n\n\nEinblick in die laufende Entwurfsarbeit\n\n\n\nDie Planungsteams präsentieren ihre städtebaulichen Konzepte in komprimierter Form (jeweils 7 Minuten) und stellen sich anschließenden Verständnisfragen. Gezeigt werden die Grundideen der jeweiligen Entwürfe. Varianten oder alternative Szenarien sind in dieser Phase nicht vorgesehen. \n\n\n\nIm zweiten Teil der Veranstaltung werden Hinweise und Anmerkungen aus der Öffentlichkeit an Thementafeln gesammelt. Rückmeldungen aus der Öffentlichkeit werden aufgenommen und fließen in die weitere Bearbeitung der Entwürfe ein. \n\n\n\n\n\n\n\n\n\nEine weitere abschließende Bürgerwerkstatt ist für den 29. Juni 2026 vorgesehen. \n\n\n\n\n\n\n\n\n\nTermin und Teilnahme\n\n\n\nDatum: Montag\, 27. April 2026Uhrzeit: 18:00 – 21:00 UhrOrt: Bruno Tautsaal\, im DEUTSCHES ARCHITEKTUR ZENTRUM DAZWilhelmine-Gemberg-Weg 6\, Hof\, Eingang H110179 Berlin-Mitte \n\n\n\nBitte melden Sie sich bei Interesse an\, damit wir Ihnen die dokumentation zuschicken können. \n\n\n\nDie Veranstaltung ist öffentlich. \n\n\n\n\nEinladungsflyer herunterladen (PDF)
URL:https://www.baustelle-gemeinwohl.de/veranstaltung/behala-viktoriaspeicher-zwischenwerkstatt-1/
LOCATION:DEUTSCHES ARCHITEKTUR ZENTRUM DAZ\, Wilhelmine-Gemberg-Weg 6\, Berlin-Mitte\, 10179\, Germany
CATEGORIES:Websites > Stadtwerkstatt
ATTACH;FMTTYPE=image/png:https://www.baustelle-gemeinwohl.de/wp-content/uploads/2026/04/keyvis-ai-bild-zu-buergerwerkstatt-02.png
END:VEVENT
END:VCALENDAR