BEGIN:VCALENDAR
VERSION:2.0
PRODID:-//Baustelle Gemeinwohl - ECPv6.15.20//NONSGML v1.0//EN
CALSCALE:GREGORIAN
METHOD:PUBLISH
X-WR-CALNAME:Baustelle Gemeinwohl
X-ORIGINAL-URL:https://www.baustelle-gemeinwohl.de
X-WR-CALDESC:Veranstaltungen für Baustelle Gemeinwohl
REFRESH-INTERVAL;VALUE=DURATION:PT1H
X-Robots-Tag:noindex
X-PUBLISHED-TTL:PT1H
BEGIN:VTIMEZONE
TZID:Europe/Berlin
BEGIN:DAYLIGHT
TZOFFSETFROM:+0100
TZOFFSETTO:+0200
TZNAME:CEST
DTSTART:20240331T010000
END:DAYLIGHT
BEGIN:STANDARD
TZOFFSETFROM:+0200
TZOFFSETTO:+0100
TZNAME:CET
DTSTART:20241027T010000
END:STANDARD
BEGIN:DAYLIGHT
TZOFFSETFROM:+0100
TZOFFSETTO:+0200
TZNAME:CEST
DTSTART:20250330T010000
END:DAYLIGHT
BEGIN:STANDARD
TZOFFSETFROM:+0200
TZOFFSETTO:+0100
TZNAME:CET
DTSTART:20251026T010000
END:STANDARD
BEGIN:DAYLIGHT
TZOFFSETFROM:+0100
TZOFFSETTO:+0200
TZNAME:CEST
DTSTART:20260329T010000
END:DAYLIGHT
BEGIN:STANDARD
TZOFFSETFROM:+0200
TZOFFSETTO:+0100
TZNAME:CET
DTSTART:20261025T010000
END:STANDARD
END:VTIMEZONE
BEGIN:VEVENT
DTSTART;TZID=Europe/Berlin:20250227T143000
DTEND;TZID=Europe/Berlin:20250406T160000
DTSTAMP:20260424T101756
CREATED:20250212T162601Z
LAST-MODIFIED:20250218T130615Z
UID:47946-1740666600-1743955200@www.baustelle-gemeinwohl.de
SUMMARY:Ausstellung zur Franz-Künstler-Straße zu Gast im Mehrgenerationenhaus Wassertor
DESCRIPTION:In den letzten Jahren ist es gelungen\, alle Teilgrundstücke an der Franz-Künstler-Straße in das Eigentum des landeseigenen Wohnungsunternehmens Gewobag zu bringen\, die das Grundstück in den kommenden Jahren entwickeln möchte. Ein Bebauungsplan (B-Plan) ist gemeinsam mit dem bezirklichen Stadtentwicklungsamt in Arbeit. Der Standort ist nach dem bezirklichen Konzept „Ankommen und Bleiben“ als einer von mehreren dezentralen Orten für Geflüchtetenunterkünfte vorgesehen. Es soll zukünftig das Zuhause von über 1.000 Menschen mit und ohne Fluchtgeschichte werden. Geplant sind dafür: \n\n\n\n\n500 Wohnungen\n\n\n\nbis zu 100 Kitaplätze\n\n\n\nGrün- und Spielflächen\n\n\n\nFlächen zum Einkaufen und für andere Nutzungen.\n\n\n\n\nAusstellung informiert über das Projekt\n\n\n\nWas ist am Standort geplant? Wie läuft das Verfahren und an welchen Punkten kann ich mich noch einbringen? Welche Bedarfe und Wünsche wurden in den bisherigen Beteiligungsformaten gesammelt? Und wie läuft eigentlich ganz allgemein ein Bebauungsplanverfahren ab?  \n\n\n\nAntworten auf diese und weitere Fragen gibt eine Plakat-Ausstellung. Die Ausstellung konnte im Winter 2024 bereits in der StadtWERKSTATT auf dem Dragonerareal besucht werden. Jetzt geht sie in die zweite Runde. \n\n\n\nVom 27. Februar bis zum 6. April 2025 hängt die Ausstellung im Mehrgenerationenhaus Wassertor. \n\n\n\n \n\n\n\nEröffnungsevent am 27.02. von 14.30 – 15.30 Uhr\n\n\n\nDie Ausstellung wird am Donnerstag\, 27. Februar 2025 von 14.30 bis 15.30 Uhr nach dem Mittagessen im Mehrgenerationenhaus Wassertor in geselliger Runde zusammen mit Baustadtrat Florian Schmidt eröffnet.  \n\n\n\nDanach kann sie zu den Öffnungszeiten des Mehrgenerationenhauses angeschaut werden. Die Adresse ist: Mehrgenerationenhaus Wassertor\, Wassertorstraße 48\, 10969 Berlin.
URL:https://www.baustelle-gemeinwohl.de/veranstaltung/ausstellung-zur-franz-kuenstler-strasse-zu-gast-im-mehrgenerationenhaus-wassertor/
ATTACH;FMTTYPE=image/png:https://www.baustelle-gemeinwohl.de/wp-content/uploads/2025/02/bild-fks.png
END:VEVENT
END:VCALENDAR